BEGIN:VCALENDAR
VERSION:2.0
PRODID:-//ŠK Pula - ECPv6.15.20//NONSGML v1.0//EN
CALSCALE:GREGORIAN
METHOD:PUBLISH
X-WR-CALNAME:ŠK Pula
X-ORIGINAL-URL:https://skpula.hr
X-WR-CALDESC:Događaji za ŠK Pula
REFRESH-INTERVAL;VALUE=DURATION:PT1H
X-Robots-Tag:noindex
X-PUBLISHED-TTL:PT1H
BEGIN:VTIMEZONE
TZID:UTC
BEGIN:STANDARD
TZOFFSETFROM:+0000
TZOFFSETTO:+0000
TZNAME:UTC
DTSTART:20210101T000000
END:STANDARD
END:VTIMEZONE
BEGIN:VEVENT
DTSTART;VALUE=DATE:20230617
DTEND;VALUE=DATE:20230626
DTSTAMP:20260422T132200
CREATED:20230112T121254Z
LAST-MODIFIED:20230112T121254Z
UID:1789-1686960000-1687737599@skpula.hr
SUMMARY:35. Pula Open
DESCRIPTION: aOd 17. do 25. lipnja\, 2023. godine\,  u Hotelu Park Plaza Histria Pula održat će se međunarodni otvoreni šahovski turnir 35. Pula Open. Prvih 20 stolova bit će pokriveno sa digitalnim pločama tako da će se prijenos partija moći pratiti u živo. \nOrganizator: Šahovski klub Pula \nPokrovitelji: Grad Pula\, Turistička zajednica grada Pule\, Sportska zajednica Istarske županije\, Sportska zajednica Grada Pule \n\n\n\n\nRaspis za 35. Pula Open 2023\n\n\n\n\nTempo igre: FIDE 90 min + 30 sekundi/potez \nLink na Chess Results \nRaspisi na različitim jezicima: \nHR_35. OPEN PULA 2023 \nIT_35. OPEN PULA 2023 \nEN_35. OPEN PULA 2023 \nDE_35. OPEN PULA 2023 \n\n\n\n\nMeđunarodni otvoreni šahovski turnir\n\n\n\n\nNa opće oduševljenje šahista i šahistica\, prošle smo godine ponovno pokrenuli turnir nakon dvije godine pauze. Ove godine ponovno organiziramo 35 po redu međunarodni šahovski turnir Pula Open.  Prošle godine smo unatoč dvogodišnjoj pauzi bili ponovno turnir sa najviše igrača u Hrvatskoj\, i naravno većinu igrača ponovno su činili strani igrači. Pula Open posebno je omiljen među igračima jer čini jedinstven spoj igranja šaha i odmora\, uživanja u pulskim plažama i znamenitostima. Ove godine očekujemo preko 200 igrača iz cijeloga svijeta\, prvenstveno zbog iznimne popularnosti koju šah uživa zadnjih par godina. Također\, igrači su se zaželjeli open turnira. Ovogodišnji 35. Pula open donosi i jednu novinu\, a to je samo jedno kolo na dan. Turnir će se ponovno kao i svake godine igrati u hotelu Park Plaza Histria. \nSvi zainteresirani su dobrodošli popratiti turnir u živo i podržati natjecatelje\, te je svim posjetiteljima ulaz besplatan. \nTempo igre \n\n\n\n\nIgra se švicarac od 9 kola. Tempo igre je 90 minuta\, plus 30 sekundi za svaki odigrani potez od početka do kraja partije. Redovna kola igraju se svakodnevno od 16:30 sati\, osim zadnjeg kola koje počinje u 10:00 sati. Pravo nastupa imaju svi šahisti i šahistice koji posjeduju FIDE ID broj. Turnir će se rejtingirati za međunarodni i nacionalni rejting. \n\n\n\n\nNagradni fond\n\n\n\n\nUkupni nagradni fond: 7.000 € neto\nGlavne nagrade:\n1. nagrada 1.000 €\n2. nagrada 800 €\n3. nagrada 600 €\n4. nagrada 400 €\n5. nagrada 300 €\n6. nagrada 200 €\n7. nagrada 150 €\n8. nagrada 100 € \n\n\n\n\nPosebne nagrade\n\n\n\n\nPosebne nagrade: 1. nagrada 2. nagrada 3. nagrada 4. nagrada 5. nagrada\nZa najuspješnijeg međunarodnog majstora 200 €\nZa najuspješnijeg FIDE majstora 150 €\nZa najuspješnije učesnice: 400 € 300 € 200 € 150 € 100 €\nZa igrače ELO 2201-2400: 150 € 100 € 80 €\nZa igrače ELO 2001-2200: 120 € 90 € 70 €\nZa igrače ELO 1801-2000: 100 € 70 € 50 €\nZa igrače ELO 1601-1800: 90 € 70 € 50 €\nZa igrače ELO 0-1600: 80 € 60 € 50 €\nZa veterane iznad 60 godina: 100 € 80 € 70 € 60 € 50 €\nZa igrače mlađe od 20 godina: 100 € 80 € 70 € 60 € 50 € \nNagrade nisu kumulativne! \n\n\n\n\nUpisnina za natjecanje\n\n\n\n\nUpisnina za natjecanje: Velemajstorice i velemajstori ne plaćaju upisninu\nIgrači rođeni 2003. godine i kasnije plaćaju upisninu 40 €\nOstali igrači plaćaju upisninu 60 €
URL:https://skpula.hr/event/35-pula-open/
LOCATION:Hotel Park Plaza Histria Pula\, Verudela 17\, Pula\, 52100\, Croatia (Local Name: Hrvatska)
CATEGORIES:Aktualni šahovski turniri,Šahovski turniri,Turniri u Hrvatskoj,Turniri u Istri
ATTACH;FMTTYPE=image/png:https://skpula.hr/wp-content/uploads/2023/01/35-pula-open.png
ORGANIZER;CN="%C5%A0K Pula":MAILTO:sahovskiklubpula@gmail.com
END:VEVENT
BEGIN:VEVENT
DTSTART;VALUE=DATE:20221104
DTEND;VALUE=DATE:20221203
DTSTAMP:20260422T132200
CREATED:20221013T202057Z
LAST-MODIFIED:20221013T202057Z
UID:1741-1667520000-1670025599@skpula.hr
SUMMARY:XXII. Memorijal „Milan Kuzmanović“
DESCRIPTION:XXII. Memorijal „Milan Kuzmanović“\nŠahovski klub Pula organizira pojedinačni šahovski turnir pod nazivom XXII. Memorijal „Milan Kuzmanović“ u vremenu od 4. studenog do 2. prosinca 2022. Memorijal će se igrati ponedjeljkom i petkom od 18 sati u prostorijama kluba\, u Radićevoj ulici br. 20 u Puli. \nDetalji o turniru\nPravo sudjelovanja imaju svi domaći i strani šahisti i šahistkinje bez obzira na titulu i kategoriju te koji posjeduju FIDE ID broj. Broj učesnika je ograničen na 35. Prijave su do 17:45 sati 4. studenog 2022. Kotizacija iznosi 50 HRK (igrači i igračice mlađi od 20 godina plaćaju kotizaciju u iznosu od 30 HRK). Prvo kolo je na rasporedu u ponedjeljak\, 4. studenog 2022. u 18 sati. Turnir će se igrati po švicarskom sustavu\, FIDE varijanta u 9 kola\, sparivanje Swiss Manager. Tempo igre je 90 minuta po igraču za cijelu partiju plus 30 sekundi dodatka za svaki odigrani potez\, počevši od prvog poteza. Turnir je prijavljen kod FIDE za obračun FIDE rejtinga za standardni šah te kod HŠS za obračun nacionalnog rejtinga. Nagradni fond iznosi 2.200\,00 HRK neto i biti će nagrađeno 5 najuspješnijih u ukupnom poretku te najbolji kadet\, junior i veteran stariji od 65 godina. \nPrijave\nPrijave možete izvršiti na brojeve mobitela: 098/532 – 583\, Kristian Valković i 095/362 -5012\, Valter Valković.
URL:https://skpula.hr/event/xxii-memorijal-milan-kuzmanovic/
LOCATION:Šahovski klub Pula\, Radićeva 20\, Pula\, 52100\, Croatia (Local Name: Hrvatska)
CATEGORIES:Aktualni šahovski turniri,Šahovski turniri,Turniri u Hrvatskoj,Turniri u Istri
ATTACH;FMTTYPE=image/jpeg:https://skpula.hr/wp-content/uploads/2022/10/kuzmanovicm-300x300-1.jpg
ORGANIZER;CN="%C5%A0K Pula":MAILTO:sahovskiklubpula@gmail.com
END:VEVENT
BEGIN:VEVENT
DTSTART;VALUE=DATE:20220703
DTEND;VALUE=DATE:20220704
DTSTAMP:20260422T132200
CREATED:20220618T015903Z
LAST-MODIFIED:20221013T190524Z
UID:1470-1656806400-1656892799@skpula.hr
SUMMARY:8. Peroj 2022
DESCRIPTION:Osmi otvoreni pojedinačni rapid turnir “Peroj 2022” odražati će se u Perojskom domu mladih 03.07. 2022. Tempo igre biti će 8 minuta plus 4 sekunde za svaki odigrani potez\, te će se igrati švicarac od 9 kola.\nOrganizator je pripremio brojne nagrade\, kako novčane\, tako i predmetne za najbolje plasirane u ukupnom poretku\, za najbolje veterane\, šahistice\, juniore i kadete.\nLink za chess-results sa listom prijavljenih igrača\, te raspisom: Chess Results
URL:https://skpula.hr/event/8-peroj-2022/
CATEGORIES:Šahovski turniri,Turniri u Hrvatskoj,Turniri u Istri,Završeni turniri
ATTACH;FMTTYPE=image/jpeg:https://skpula.hr/wp-content/uploads/2022/06/Peroj_sahovski-turnir-400.jpg
END:VEVENT
BEGIN:VEVENT
DTSTART;VALUE=DATE:20220702
DTEND;VALUE=DATE:20220711
DTSTAMP:20260422T132200
CREATED:20220618T020327Z
LAST-MODIFIED:20221013T200641Z
UID:1472-1656720000-1657497599@skpula.hr
SUMMARY:Šolta Open 2022
DESCRIPTION:Međunarodni otvoreni šahovski turnir Šolta Open održat će se u Grohotama na Šolti\, od 02. do 10. srpnja 2022. \nRaspis \n\n\n\n\n\n\nPRIJAVA I SVE INFORMACIJE:\nMateo Ivić\n+385 (0)91 6400 589\nivic32@yahoo.com \nNAJVAŽNIJE:\nOsnovna škola Grohote\, Grohote\, Šolta\n2.-10.7.2022.\nŠvicarac\, 9 kola\, 90 min.+30 sec.\nNagradni fond: 10.000 eur \nSMJEŠTAJ:\nSmještaj je poželjno rezervirati što ranije.\nU nastavku je lista iznajmljivača preporučenih od organizatora\, i svi će ponuditi najbolje moguće uvjete za sudionike.\nSvi su u Nečujmu tik do mora. Od Nečujma do sale za igru u Grohotama je 8 km. Za igrače bez prijevoza organiziran je taxi prijevoz prije i nakon svakog kola. Cijena prijevoza za svih 9 dana je 40 eura. \nSTARTNA LISTA \n\n\n\n\n\n\n\n\n\n\n\n\nŠOLTA OPEN 2O22\n\n\n\n\nOTVORENI MEĐUNARODNI ŠAHOVSKI TURNIR “ŠOLTA OPEN”\nGrohote\, Šolta\, 2.-10.7.2022.\nORGANIZATOR: Šahovski klub Brda-Split\nPOKROVITELJI:Općina Šolta\, Turistička zajednica općine Šolta\nMJESTO IGRANJA:  Osnovna škola Grohote\, Grohote\nTurnir se igra švicarskim sustavom u 9 kola\nTEMPO IGRE: 90 minuta uz dodatak od 30 sekundi po potezu\nTurnir će se rejtingirati kod FIDE za osvajanje ELO rejtinga \nRASPORED IGRANJA:\n2.7. Kolo 1 – 18:00\n3.7. Kolo 2 – 14:00\n4.7. Kolo 3 – 10:00 ; Kolo 4 – 17:00\n5.7. BLITZ TURNIR 17:00\n6.7.    Kolo 5:  14.00\n7.7.    Kolo 6:  14.00\n8.7.    Kolo 7:  14.00\n9.7.    Kolo 8:  14.00\n10.7.  Kolo 9:  09.30\nSvečano proglašenje i dodjela nagrada:  10.7. – 14.00 \nNAGRADNI FOND: 10.000 EUR \nGLAVNE NAGRADE (U EURIMA):\n1. 1500\n2. 1200\n3. 1000\n4. 800\n5. 700\n6. 550\n7. 450\n8. 300\n9. 200\n10.-12. 100 \nPOSEBNE NAGRADE:\nNajbolje učesnice:                       300\, 200\, 100\, 50\, 50\nNajbolji veterani(>60):                300\, 200\, 100\, 50\, 50\nNajbolji juniori (<18):                  300\, 200\, 100\, 50\, 50\nNajbolji igrači ispod 2300 ELO:  300\, 200\, 100\, 50\, 50\nNajbolji igrači ispod 2000 ELO:  100\, 50\, 50\nNagrade nisu kumulativne. \nUPISNINA ZA NATJECANJE:  40 eur\nZa igrače s CRO liste – 250 kn\n– GM i WGM ne plaćaju upisninu \nGarniture za igru osigurava organizator\, kao i šahovske satove na prvih 20 tabli. Igrač s bijelim figurama dužan je osigurati digitalni šahovski sat. Satovi će se moći iznajmiti (2 eura) \nSMJEŠTAJ: \n1. AFRODITA APARTMANI – NEČUJAM – Najveći broj i izbor apartmana\nŽeljana Mirošević\ne-mail: studioaura@studioaura.hr\nMob: +385 (0)91 5615 115 \n2. SALIHBEGOVIĆ APARTMANI – NEČUJAM\nSalih Salihbegović\nMob: +385 91 788 4224\ne-mail: suvenirstudio@inet.hr \n3. Apartman za 3 osobe (kontakt: Mirjana Stanić: 00385 98 901 5845; mail: mirjana.solta@gmail.com \n4. Apartmani Lucija : 2 studio apartmana za po 2 osobe svaki (kontakt: info@lucija-solta.com; \n5. Apartmani Šolta : 1 apartman do 6 osoba; 1 apartman do 5 osoba; 2 apartmana do 4 osobe svaki; kontakt: Vernes Selimović 00385 95 878 3406; e-mail: apartmentsolta@gmail.com \n6. Ivanka Boban\nhttps://www.apartmanija.hr/apartmani/necujam/apartman-darina/6756?fbclid=IwAR0Js3CqKJVSx64WTgoKwb0gKPqlbWIxYoIiMYQnZOAXPXxsmfwo_7nJro0 \n\n\n\n\n\n\n\n\n\n\n\n\n\nO ŠOLTI\n\n\n\n\nŠolta\, komadić raja nadomak Splita\nVolite autohtno i prirodno\, uživate u skrivenim plažama i uvalama? Zbog netaknute prirode\, bogate kulturne baštine i gostoljubivih mještana otok koji se smjestio svega devet nautičkih milja od Splita upravo je mjesto za Vas!\nTko bi mogao odoljeti prirodnim šljunčanim plažama\, bistrim dubinama\, drevnim maslinicima i živopisnim suhozidima koji svojom ljepotom nikoga ne ostavljaju ravnodušnim? Sa svojih 19 kilometara duljine i 4\,5 kilometara širine Šolta je pravo blago za ljubitelje prirode.\nStoga ne čudi što su upravo ovaj komad raja za sebe birali i ilirska kraljica Teuta za koju legenda kaže da je svoje dvore izgradila nad uvalom Senjska\, rimski car Dioklecijan koji je prepoznao djevičansku čistoću šoltanskog akvatorija te upravo u Nečujmu dao izgraditi ribnjak te i otac hrvatske književnosti\, Marko Marulić\, kojem je Šolta bila inspiracija pjesničkog doživljaja.\nStomorska\, Nečujam\, Rogač i Maslinica su četri od ukupno osam mjesta koja su se smjestila uz more. Gornje\, Srednje i Donje Selo te administrativno središte\, Grohote su u unutrašnjosti otoka i pružaju doživljaj tipičnih mediteranskih sela u kojima kao da je vrijeme stalo. Južna strana otoka skriva mnoštvo uvala do kojih se ne može automobilom\, a pronaći ćete ih slijedeći drvene putokaze uz glavnu prometnicu.\nŠolta Vas srdačno dočekuje i nudi ponešto za svakoga: slikovite plaže\, kilometre staza i šetnica\, izvornu domaću kužinu\, vrhunsku kapljicu vina\, najslađi med i najljekovitije maslinovo ulje. Šolta nudi umjetnost i kuturu\, nudi doživljaj i bezbroj mogućnosti.\nTko jednom posjeti Šoltu\, uvijek će joj se vraćati.\nProvjerite i sami.
URL:https://skpula.hr/event/solta-open-2022/
LOCATION:Osnovna škola Grohote\, Podkuća 28\, Grohote\, otok Šolta\, 21 430\, Croatia (Local Name: Hrvatska)
CATEGORIES:Šahovski turniri,Turniri u Hrvatskoj,Završeni turniri
ATTACH;FMTTYPE=image/jpeg:https://skpula.hr/wp-content/uploads/2022/06/Solta-open-1.jpg
END:VEVENT
BEGIN:VEVENT
DTSTART;VALUE=DATE:20220618
DTEND;VALUE=DATE:20220626
DTSTAMP:20260422T132200
CREATED:20220618T020719Z
LAST-MODIFIED:20221013T190157Z
UID:1476-1655510400-1656201599@skpula.hr
SUMMARY:34. Pula Open
DESCRIPTION:Međunarodni otvoreni šahovski turnir 34. Pula Open održat će se u Hotelu Park Plaza Histria Pula\, od 18. do 25. lipnja\, 2022. godine. \nTempo igre: FIDE 90 min + 30 sekundi/potez \nRaspis \nOrganizator: Šahovski klub Pula \nPokrovitelji: Grad Pula\, Turistička zajednica grada Pule\, Sportska zajednica Istarske županije \nNakon dvije godine pauze zbog dobro nam znanih razloga ŠK Pula ove godine ponovo organizira 34 po redu međunarodni šahovski turnir Open Pula. Pulski open je već godinama najveći turnir u Hrvatskoj\, a poseban je i po tome šta na njemu nastupa 70 posto stranih igrača i 30 posto domaćih\, šta je prava rijetkost. Međutim ljudi u Pulu dođu ne samo igrati šah nego se i odmoriti i uživati u lijepim pulskim plažama i ostalim znamenitostima šta Pula pruža. S obzirom da dvije godine nije bilo turnira ove godine očekujemo otprilike 160-170 igrača iz preko 20 zemalja. Turnir će se kao i svake godine igrati u hotelu Park Plaza Histrija. Prvih 12 stolova biti će pokriveno sa digitalnim pločama tako da će prijenos partija ići u cijeli svijet. Tempo igre je 90 minuta\, plus 30 sekundi za svaki odigrani potez od početka do kraja partije\, a igra se švicarac od 9 kola. Redovna kola igraju se svakodnevno od 16:30\, osim 3 i 9 kola koja počinjh u 09:30\, odnosno 10:00. Pravo nastupa imaju svi šahisti i šahistkinje koji posjeduju FIDE ID broj. Turnir će se rejtingirati za međunarodni i nacionalni rejting.
URL:https://skpula.hr/event/34-pula-open/
LOCATION:Hotel Park Plaza Histria Pula\, Verudela 17\, Pula\, 52100\, Croatia (Local Name: Hrvatska)
CATEGORIES:Šahovski turniri,Turniri u Hrvatskoj,Turniri u Istri,Završeni turniri
ATTACH;FMTTYPE=image/jpeg:https://skpula.hr/wp-content/uploads/2022/06/34-Pula-Open-plakat-small.jpg
ORGANIZER;CN="%C5%A0K Pula":MAILTO:sahovskiklubpula@gmail.com
END:VEVENT
END:VCALENDAR